Workbook

Sheet Zimmerzahl
A7: =VLOOKUP("<Fachbereich>",Uebersetzungen!$B$3:$E$100,Uebersetzungen!$B$2+1,FALSE) -> Daten & Statistik
A9: =VLOOKUP("<Titel>",Uebersetzungen!$B$3:$E$38,Uebersetzungen!$B$2+1,FALSE) -> Bewohnte Wohnungen (*) nach Zimmerzahl und Gemeinde, 2025
A10: =VLOOKUP("<UTitel>",Uebersetzungen!$B$3:$E$100,Uebersetzungen!$B$2+1,FALSE) -> (Gemeindestand 2025: 100 Gemeinden)
B13: =VLOOKUP("<SpaltenTitel_0>",Uebersetzungen!$B$3:$E$36,Uebersetzungen!$B$2+1,FALSE) -> Bewohnte Wohnungen (*)
B14: =VLOOKUP("<SpaltenTitel_1>",Uebersetzungen!$B$3:$E$36,Uebersetzungen!$B$2+1,FALSE) -> Total | C14: =VLOOKUP("<SpaltenTitel_2>",Uebersetzungen!$B$3:$E$36,Uebersetzungen!$B$2+1,FALSE) -> Wohnungen mit ... Zimmer(n) | I14: =VLOOKUP("<SpaltenTitel_3>",Uebersetzungen!$B$3:$E$36,Uebersetzungen!$B$2+1,FALSE) -> Anteil Personen, die keiner Wohnung zugeordnet sind (in%)
C15: =VLOOKUP("<SpaltenTitel_2.1>",Uebersetzungen!$B$3:$E$36,Uebersetzungen!$B$2+1,FALSE) -> 1 Zimmer | D15: =VLOOKUP("<SpaltenTitel_2.2>",Uebersetzungen!$B$3:$E$36,Uebersetzungen!$B$2+1,FALSE) -> 2 Zimmer | E15: =VLOOKUP("<SpaltenTitel_2.3>",Uebersetzungen!$B$3:$E$337,Uebersetzungen!$B$2+1,FALSE) -> 3 Zimmer | F15: =VLOOKUP("<SpaltenTitel_2.4>",Uebersetzungen!$B$3:$E$337,Uebersetzungen!$B$2+1,FALSE) -> 4 Zimmer | G15: =VLOOKUP("<SpaltenTitel_2.5>",Uebersetzungen!$B$3:$E$337,Uebersetzungen!$B$2+1,FALSE) -> 5 Zimmer | H15: =VLOOKUP("<SpaltenTitel_2.6>",Uebersetzungen!$B$3:$E$337,Uebersetzungen!$B$2+1,FALSE) -> 6+ Zimmer
A17: =VLOOKUP("<Zeilentitel_1>",Uebersetzungen!$B$3:$E$100,Uebersetzungen!$B$2+1,FALSE) -> GRAUBÜNDEN | B17: 100488 | C17: 7277 | D17: 13195 | E17: 22175 | F17: 29950 | G17: 16563 | H17: 11328
A18: =VLOOKUP("<Zeilentitel_2>",Uebersetzungen!$B$3:$E$100,Uebersetzungen!$B$2+1,FALSE) -> Region Albula | B18: 4255 | C18: 411 | D18: 529 | E18: 859 | F18: 1143 | G18: 747 | H18: 566
A19: Vaz/Obervaz | B19: 1472 | C19: 263 | D19: 209 | E19: 326 | F19: 389 | G19: 180 | H19: 105 | I19: 1.3910844
A20: Lantsch/Lenz | B20: 310 | C20: 28 | D20: 39 | E20: 64 | F20: 93 | G20: 44 | H20: 42 | I20: 0.81967213
A21: Schmitten (GR) | B21: 115 | C21: 5 | D21: 12 | E21: 15 | F21: 37 | G21: 34 | H21: 12 | I21: 9.1703057
A22: Albula/Alvra | B22: 636 | C22: 32 | D22: 67 | E22: 137 | F22: 165 | G22: 132 | H22: 103 | I22: 1.1286682
A23: Surses | B23: 1275 | C23: 53 | D23: 152 | E23: 242 | F23: 323 | G23: 267 | H23: 238 | I23: 0.27121271
A24: Bergün Filisur | B24: 447 | C24: 30 | D24: 50 | E24: 75 | F24: 136 | G24: 90 | H24: 66 | I24: 0.20597322
A25: =VLOOKUP("<Zeilentitel_3>",Uebersetzungen!$B$3:$E$100,Uebersetzungen!$B$2+1,FALSE) -> Region Bernina | B25: 2006 | C25: 27 | D25: 108 | E25: 303 | F25: 561 | G25: 544 | H25: 463
A26: Brusio | B26: 471 | C26: 2 | D26: 16 | E26: 85 | F26: 213 | G26: 90 | H26: 65 | I26: 0.72202166
A27: Poschiavo | B27: 1535 | C27: 25 | D27: 92 | E27: 218 | F27: 348 | G27: 454 | H27: 398 | I27: 0.086182132
A28: =VLOOKUP("<Zeilentitel_4>",Uebersetzungen!$B$3:$E$100,Uebersetzungen!$B$2+1,FALSE) -> Region Engiadina Bassa/Val Müstair | B28: 4602 | C28: 432 | D28: 554 | E28: 887 | F28: 1208 | G28: 854 | H28: 667
A29: Zernez | B29: 752 | C29: 54 | D29: 85 | E29: 146 | F29: 230 | G29: 136 | H29: 101 | I29: 1.0968921
A30: Samnaun | B30: 493 | C30: 149 | D30: 74 | E30: 86 | F30: 99 | G30: 43 | H30: 42 | I30: 0.32493907
A31: Scuol | B31: 2258 | C31: 204 | D31: 307 | E31: 464 | F31: 600 | G31: 388 | H31: 295 | I31: 0.18800919
A32: Valsot | B32: 382 | C32: 8 | D32: 25 | E32: 65 | F32: 95 | G32: 104 | H32: 85 | I32: 0.23866348
A33: Val Müstair | B33: 717 | C33: 17 | D33: 63 | E33: 126 | F33: 184 | G33: 183 | H33: 144 | I33: 0.70422535
A34: =VLOOKUP("<Zeilentitel_5>",Uebersetzungen!$B$3:$E$100,Uebersetzungen!$B$2+1,FALSE) -> Region Imboden | B34: 10045 | C34: 495 | D34: 1105 | E34: 2252 | F34: 3224 | G34: 1895 | H34: 1074
A35: Bonaduz | B35: 1608 | C35: 61 | D35: 176 | E35: 328 | F35: 428 | G35: 390 | H35: 225 | I35: 0.4377565
A36: Domat/Ems | B36: 3708 | C36: 112 | D36: 364 | E36: 908 | F36: 1355 | G36: 645 | H36: 324 | I36: 0.16536735
A37: Rhäzüns | B37: 664 | C37: 29 | D37: 44 | E37: 104 | F37: 245 | G37: 160 | H37: 82 | I37: 0.18552876
A38: Felsberg | B38: 1205 | C38: 38 | D38: 131 | E38: 209 | F38: 414 | G38: 258 | H38: 155 | I38: 0.10427529
A39: Flims | B39: 1572 | C39: 201 | D39: 252 | E39: 420 | F39: 426 | G39: 164 | H39: 109 | I39: 0.09771987
A40: Tamins | B40: 563 | C40: 17 | D40: 52 | E40: 125 | F40: 155 | G40: 126 | H40: 88 | I40: 0.08071025
A41: Trin | B41: 725 | C41: 37 | D41: 86 | E41: 158 | F41: 201 | G41: 152 | H41: 91 | I41: 0.31210986
A42: =VLOOKUP("<Zeilentitel_6>",Uebersetzungen!$B$3:$E$100,Uebersetzungen!$B$2+1,FALSE) -> Region Landquart | B42: 12091 | C42: 357 | D42: 1365 | E42: 2296 | F42: 4028 | G42: 2367 | H42: 1678
A43: Trimmis | B43: 1532 | C43: 50 | D43: 149 | E43: 251 | F43: 550 | G43: 334 | H43: 198 | I43: 0
A44: Untervaz | B44: 1195 | C44: 48 | D44: 142 | E44: 193 | F44: 319 | G44: 231 | H44: 262 | I44: 0.14981273
A45: Zizers | B45: 1775 | C45: 71 | D45: 216 | E45: 373 | F45: 534 | G45: 362 | H45: 219 | I45: 0.077901844
A46: Fläsch | B46: 414 | C46: 6 | D46: 51 | E46: 70 | F46: 155 | G46: 83 | H46: 49 | I46: 0.55865922
A47: Jenins | B47: 434 | C47: 13 | D47: 28 | E47: 85 | F47: 125 | G47: 106 | H47: 77 | I47: 0
A48: Maienfeld | B48: 1559 | C48: 49 | D48: 198 | E48: 350 | F48: 466 | G48: 241 | H48: 255 | I48: 0.029886432
A49: Malans | B49: 1094 | C49: 17 | D49: 88 | E49: 186 | F49: 368 | G49: 229 | H49: 206 | I49: 0.19600157
A50: Landquart | B50: 4088 | C50: 103 | D50: 493 | E50: 788 | F50: 1511 | G50: 781 | H50: 412 | I50: 0.28026302
A51: =VLOOKUP("<Zeilentitel_7>",Uebersetzungen!$B$3:$E$100,Uebersetzungen!$B$2+1,FALSE) -> Region Maloja | B51: 9651 | C51: 1405 | D51: 1567 | E51: 2305 | F51: 2607 | G51: 1061 | H51: 706
A52: Bever | B52: 321 | C52: 23 | D52: 38 | E52: 45 | F52: 61 | G52: 83 | H52: 71 | I52: 0.27434842
A53: Celerina/Schlarigna | B53: 751 | C53: 79 | D53: 130 | E53: 204 | F53: 203 | G53: 90 | H53: 45 | I53: 0.32959789
A54: Madulain | B54: 99 | C54: 4 | D54: 16 | E54: 20 | F54: 27 | G54: 22 | H54: 10 | I54: 3.9647577
A55: Pontresina | B55: 1036 | C55: 124 | D55: 189 | E55: 275 | F55: 279 | G55: 97 | H55: 72 | I55: 0.90534979
A56: La Punt Chamues-ch | B56: 403 | C56: 34 | D56: 75 | E56: 113 | F56: 118 | G56: 30 | H56: 33 | I56: 1.375
A57: Samedan | B57: 1491 | C57: 182 | D57: 231 | E57: 351 | F57: 500 | G57: 138 | H57: 89 | I57: 0.12982798
A58: St. Moritz | B58: 2814 | C58: 660 | D58: 455 | E58: 652 | F58: 710 | G58: 201 | H58: 136 | I58: 0.56615018
A59: S-chanf | B59: 369 | C59: 33 | D59: 49 | E59: 73 | F59: 96 | G59: 67 | H59: 51 | I59: 0.26246719
A60: Sils im Engadin/Segl | B60: 346 | C60: 57 | D60: 64 | E60: 87 | F60: 80 | G60: 38 | H60: 20 | I60: 4.8040455
A61: Silvaplana | B61: 675 | C61: 142 | D61: 130 | E61: 179 | F61: 150 | G61: 46 | H61: 28 | I61: 1.1971269
A62: Zuoz | B62: 574 | C62: 39 | D62: 95 | E62: 146 | F62: 170 | G62: 74 | H62: 50 | I62: 0.32840722
A63: Bregaglia | B63: 772 | C63: 28 | D63: 95 | E63: 160 | F63: 213 | G63: 175 | H63: 101 | I63: 0
A64: =VLOOKUP("<Zeilentitel_8>",Uebersetzungen!$B$3:$E$100,Uebersetzungen!$B$2+1,FALSE) -> Region Moesa | B64: 4495 | C64: 116 | D64: 533 | E64: 1184 | F64: 1413 | G64: 774 | H64: 475
A65: Buseno | B65: 55 | C65: 3 | D65: 7 | E65: 22 | F65: 12 | G65: 7 | H65: 4 | I65: 0
A66: Castaneda | B66: 131 | C66: 1 | D66: 7 | E66: 43 | F66: 38 | G66: 26 | H66: 16 | I66: 0
A67: Rossa | B67: 96 | C67: 2 | D67: 8 | E67: 25 | F67: 33 | G67: 17 | H67: 11 | I67: 1.6666667
A68: Santa Maria in Calanca | B68: 68 | C68: 0 | D68: 10 | E68: 33 | F68: 14 | G68: 4 | H68: 7 | I68: 0
A69: Lostallo | B69: 401 | C69: 6 | D69: 33 | E69: 93 | F69: 159 | G69: 75 | H69: 35 | I69: 0.22962113
A70: Mesocco | B70: 684 | C70: 35 | D70: 67 | E70: 184 | F70: 220 | G70: 107 | H70: 71 | I70: 0.41928721
A71: Soazza | B71: 163 | C71: 3 | D71: 17 | E71: 46 | F71: 57 | G71: 24 | H71: 16 | I71: 0.625
A72: Cama | B72: 347 | C72: 8 | D72: 43 | E72: 99 | F72: 126 | G72: 45 | H72: 26 | I72: 0.80428954
A73: Grono | B73: 773 | C73: 25 | D73: 138 | E73: 240 | F73: 214 | G73: 84 | H73: 72 | I73: 0
A74: Roveredo (GR) | B74: 1216 | C74: 19 | D74: 143 | E74: 255 | F74: 365 | G74: 279 | H74: 155 | I74: 0.22413149
A75: San Vittore | B75: 444 | C75: 8 | D75: 52 | E75: 103 | F75: 135 | G75: 94 | H75: 52 | I75: 1.1627907
A76: Calanca | B76: 117 | C76: 6 | D76: 8 | E76: 41 | F76: 40 | G76: 12 | H76: 10 | I76: 0.456621
A77: =VLOOKUP("<Zeilentitel_9>",Uebersetzungen!$B$3:$E$100,Uebersetzungen!$B$2+1,FALSE) -> Region Plessur | B77: 22919 | C77: 1945 | D77: 3564 | E77: 5839 | F77: 7420 | G77: 2722 | H77: 1429
A78: Chur | B78: 20180 | C78: 1575 | D78: 3162 | E78: 5257 | F78: 6692 | G78: 2322 | H78: 1172 | I78: 0.069556577
A79: Churwalden | B79: 996 | C79: 89 | D79: 132 | E79: 200 | F79: 273 | G79: 172 | H79: 130 | I79: 0.23618328
A80: Arosa | B80: 1743 | C80: 281 | D80: 270 | E80: 382 | F80: 455 | G80: 228 | H80: 127 | I80: 0.61004223
A81: =VLOOKUP("<Zeilentitel_10>",Uebersetzungen!$B$3:$E$100,Uebersetzungen!$B$2+1,FALSE) -> Region Prättigau/Davos | B81: 13097 | C81: 1127 | D81: 1940 | E81: 2864 | F81: 3608 | G81: 2026 | H81: 1532
A82: Davos | B82: 5608 | C82: 826 | D82: 1030 | E82: 1331 | F82: 1649 | G82: 504 | H82: 268 | I82: 0.14806284
A83: Fideris | B83: 280 | C83: 6 | D83: 28 | E83: 31 | F83: 55 | G83: 67 | H83: 93 | I83: 0
A84: Furna | B84: 81 | C84: 1 | D84: 3 | E84: 10 | F84: 20 | G84: 22 | H84: 25 | I84: 2.4271845
A85: Jenaz | B85: 535 | C85: 8 | D85: 56 | E85: 91 | F85: 144 | G85: 121 | H85: 115 | I85: 0.59982862
A86: Klosters | B86: 2280 | C86: 142 | D86: 305 | E86: 575 | F86: 636 | G86: 336 | H86: 286 | I86: 0.35978836
A87: Conters im Prättigau | B87: 104 | C87: 1 | D87: 6 | E87: 21 | F87: 19 | G87: 35 | H87: 22 | I87: 0
A88: Küblis | B88: 446 | C88: 19 | D88: 58 | E88: 110 | F88: 100 | G88: 88 | H88: 71 | I88: 0.74309979
A89: Luzein | B89: 730 | C89: 4 | D89: 64 | E89: 138 | F89: 195 | G89: 164 | H89: 165 | I89: 0
A90: Grüsch | B90: 1023 | C90: 36 | D90: 125 | E90: 188 | F90: 287 | G90: 244 | H90: 143 | I90: 0
A91: Schiers | B91: 1354 | C91: 61 | D91: 198 | E91: 273 | F91: 326 | G91: 273 | H91: 223 | I91: 0.19834711
A92: Seewis im Prättigau | B92: 656 | C92: 23 | D92: 67 | E92: 96 | F92: 177 | G92: 172 | H92: 121 | I92: 0.26827632
A93: =VLOOKUP("<Zeilentitel_11>",Uebersetzungen!$B$3:$E$100,Uebersetzungen!$B$2+1,FALSE) -> Region Surselva | B93: 10646 | C93: 735 | D93: 1165 | E93: 1947 | F93: 2848 | G93: 2222 | H93: 1729
A94: Falera | B94: 307 | C94: 17 | D94: 33 | E94: 67 | F94: 79 | G94: 75 | H94: 36 | I94: 3.6671368
A95: Laax | B95: 1185 | C95: 241 | D95: 207 | E95: 258 | F95: 266 | G95: 135 | H95: 78 | I95: 0.29927319
A96: Sagogn | B96: 355 | C96: 11 | D96: 34 | E96: 73 | F96: 94 | G96: 94 | H96: 49 | I96: 0
A97: Schluein | B97: 314 | C97: 33 | D97: 32 | E97: 67 | F97: 92 | G97: 52 | H97: 38 | I97: 0
A98: Vals | B98: 516 | C98: 103 | D98: 51 | E98: 89 | F98: 148 | G98: 73 | H98: 52 | I98: 2.0750988
A99: Lumnezia | B99: 983 | C99: 21 | D99: 65 | E99: 138 | F99: 246 | G99: 298 | H99: 215 | I99: 0.19792182
A100: Ilanz/Glion | B100: 2439 | C100: 152 | D100: 317 | E100: 474 | F100: 709 | G100: 456 | H100: 331 | I100: 0.41420118
A101: Safiental | B101: 413 | C101: 3 | D101: 22 | E101: 62 | F101: 101 | G101: 100 | H101: 125 | I101: 1.4358974
A102: Breil/Brigels | B102: 802 | C102: 20 | D102: 69 | E102: 129 | F102: 209 | G102: 194 | H102: 181 | I102: 0.11331445
A103: Disentis/Mustér | B103: 1008 | C103: 61 | D103: 134 | E103: 209 | F103: 259 | G103: 183 | H103: 162 | I103: 1.4031805
A104: Medel (Lucmagn) | B104: 151 | C104: 1 | D104: 10 | E104: 18 | F104: 28 | G104: 46 | H104: 48 | I104: 0.61919505
A105: Sumvitg | B105: 491 | C105: 3 | D105: 30 | E105: 53 | F105: 125 | G105: 143 | H105: 137 | I105: 0.095238095
... A108: Obersaxen Mundaun | B108: 545 | C108: 14 | D108: 57 | E108: 101 | F108: 154 | G108: 132 | H108: 87 | I108: 0.60137457
A109: =VLOOKUP("<Zeilentitel_12>",Uebersetzungen!$B$3:$E$100,Uebersetzungen!$B$2+1,FALSE) -> Region Viamala | B109: 6681 | C109: 227 | D109: 765 | E109: 1439 | F109: 1890 | G109: 1351 | H109: 1009
A110: Fürstenau | B110: 168 | C110: 5 | D110: 18 | E110: 31 | F110: 48 | G110: 46 | H110: 20 | I110: 0.28571429
A111: Rothenbrunnen | B111: 145 | C111: 8 | D111: 12 | E111: 27 | F111: 38 | G111: 30 | H111: 30 | I111: 1.1695906
A112: Scharans | B112: 378 | C112: 13 | D112: 42 | E112: 70 | F112: 91 | G112: 86 | H112: 76 | I112: 0
...

Sheet Anzahl Bewohner
A7: =VLOOKUP("<Fachbereich>",Uebersetzungen!$B$3:$E$100,Uebersetzungen!$B$2+1,FALSE) -> Daten & Statistik
A9: =VLOOKUP("<T2Titel>",Uebersetzungen!$B$3:$E$338,Uebersetzungen!$B$2+1,FALSE) -> Bewohnte Wohnungen (*) nach Anzahl Bewohner und Gemeinde, 2025
A10: =VLOOKUP("<T2UTitel>",Uebersetzungen!$B$3:$E$100,Uebersetzungen!$B$2+1,FALSE) -> (Gemeindestand 2025: 100 Gemeinden)
B13: =VLOOKUP("<T2SpaltenTitel_0>",Uebersetzungen!$B$3:$E$336,Uebersetzungen!$B$2+1,FALSE) -> Bewohnte Wohnungen (*)
B14: =VLOOKUP("<T2SpaltenTitel_1>",Uebersetzungen!$B$3:$E$336,Uebersetzungen!$B$2+1,FALSE) -> Total | C14: =VLOOKUP("<T2SpaltenTitel_2>",Uebersetzungen!$B$3:$E$336,Uebersetzungen!$B$2+1,FALSE) -> mit … in der Wohnung | I14: =VLOOKUP("<T2SpaltenTitel_3>",Uebersetzungen!$B$3:$E$336,Uebersetzungen!$B$2+1,FALSE) -> Anteil Personen, die keiner Wohnung zugeordnet sind (in%)
C15: =VLOOKUP("<T2SpaltenTitel_2.1>",Uebersetzungen!$B$3:$E$336,Uebersetzungen!$B$2+1,FALSE) -> 1 Person | D15: =VLOOKUP("<T2SpaltenTitel_2.2>",Uebersetzungen!$B$3:$E$336,Uebersetzungen!$B$2+1,FALSE) -> 2 Personen | E15: =VLOOKUP("<T2SpaltenTitel_2.3>",Uebersetzungen!$B$3:$E$337,Uebersetzungen!$B$2+1,FALSE) -> 3 Personen | F15: =VLOOKUP("<T2SpaltenTitel_2.4>",Uebersetzungen!$B$3:$E$337,Uebersetzungen!$B$2+1,FALSE) -> 4 Personen | G15: =VLOOKUP("<T2SpaltenTitel_2.5>",Uebersetzungen!$B$3:$E$337,Uebersetzungen!$B$2+1,FALSE) -> 5 Personen | H15: =VLOOKUP("<T2SpaltenTitel_2.6>",Uebersetzungen!$B$3:$E$337,Uebersetzungen!$B$2+1,FALSE) -> 6+ Personen
A17: =VLOOKUP("<Zeilentitel_1>",Uebersetzungen!$B$3:$E$100,Uebersetzungen!$B$2+1,FALSE) -> GRAUBÜNDEN | B17: 100488 | C17: 39808 | D17: 34161 | E17: 11368 | F17: 10904 | G17: 3275 | H17: 972
A18: =VLOOKUP("<Zeilentitel_2>",Uebersetzungen!$B$3:$E$100,Uebersetzungen!$B$2+1,FALSE) -> Region Albula | B18: 4255 | C18: 1845 | D18: 1470 | E18: 369 | F18: 401 | G18: 134 | H18: 36
A19: Vaz/Obervaz | B19: 1472 | C19: 669 | D19: 481 | E19: 127 | F19: 146 | G19: 40 | H19: 9 | I19: 1.3910844
A20: Lantsch/Lenz | B20: 310 | C20: 150 | D20: 93 | E20: 18 | F20: 38 | G20: 8 | H20: 3 | I20: 0.81967213
A21: Schmitten (GR) | B21: 115 | C21: 56 | D21: 41 | E21: 7 | F21: 6 | G21: 5 | H21: 0 | I21: 9.1703057
A22: Albula/Alvra | B22: 636 | C22: 259 | D22: 217 | E22: 73 | F22: 58 | G22: 19 | H22: 10 | I22: 1.1286682
A23: Surses | B23: 1275 | C23: 537 | D23: 474 | E23: 104 | F23: 110 | G23: 41 | H23: 9 | I23: 0.27121271
A24: Bergün Filisur | B24: 447 | C24: 174 | D24: 164 | E24: 40 | F24: 43 | G24: 21 | H24: 5 | I24: 0.20597322
A25: =VLOOKUP("<Zeilentitel_3>",Uebersetzungen!$B$3:$E$100,Uebersetzungen!$B$2+1,FALSE) -> Region Bernina | B25: 2006 | C25: 720 | D25: 624 | E25: 266 | F25: 255 | G25: 111 | H25: 30
A26: Brusio | B26: 471 | C26: 160 | D26: 148 | E26: 71 | F26: 54 | G26: 26 | H26: 12 | I26: 0.72202166
A27: Poschiavo | B27: 1535 | C27: 560 | D27: 476 | E27: 195 | F27: 201 | G27: 85 | H27: 18 | I27: 0.086182132
A28: =VLOOKUP("<Zeilentitel_4>",Uebersetzungen!$B$3:$E$100,Uebersetzungen!$B$2+1,FALSE) -> Region Engiadina Bassa/Val Müstair | B28: 4602 | C28: 1856 | D28: 1589 | E28: 508 | F28: 476 | G28: 136 | H28: 37
A29: Zernez | B29: 752 | C29: 290 | D29: 263 | E29: 83 | F29: 87 | G29: 22 | H29: 7 | I29: 1.0968921
A30: Samnaun | B30: 493 | C30: 234 | D30: 144 | E30: 62 | F30: 42 | G30: 10 | H30: 1 | I30: 0.32493907
A31: Scuol | B31: 2258 | C31: 891 | D31: 783 | E31: 247 | F31: 246 | G31: 76 | H31: 15 | I31: 0.18800919
A32: Valsot | B32: 382 | C32: 136 | D32: 139 | E32: 51 | F32: 43 | G32: 8 | H32: 5 | I32: 0.23866348
A33: Val Müstair | B33: 717 | C33: 305 | D33: 260 | E33: 65 | F33: 58 | G33: 20 | H33: 9 | I33: 0.70422535
A34: =VLOOKUP("<Zeilentitel_5>",Uebersetzungen!$B$3:$E$100,Uebersetzungen!$B$2+1,FALSE) -> Region Imboden | B34: 10045 | C34: 3455 | D34: 3415 | E34: 1263 | F34: 1429 | G34: 364 | H34: 119
A35: Bonaduz | B35: 1608 | C35: 553 | D35: 532 | E35: 191 | F35: 246 | G35: 69 | H35: 17 | I35: 0.4377565
A36: Domat/Ems | B36: 3708 | C36: 1215 | D36: 1234 | E36: 528 | F36: 533 | G36: 152 | H36: 46 | I36: 0.16536735
A37: Rhäzüns | B37: 664 | C37: 190 | D37: 232 | E37: 84 | F37: 114 | G37: 36 | H37: 8 | I37: 0.18552876
A38: Felsberg | B38: 1205 | C38: 362 | D38: 398 | E38: 166 | F38: 217 | G38: 39 | H38: 23 | I38: 0.10427529
A39: Flims | B39: 1572 | C39: 700 | D39: 539 | E39: 154 | F39: 145 | G39: 29 | H39: 5 | I39: 0.09771987
A40: Tamins | B40: 563 | C40: 187 | D40: 217 | E40: 64 | F40: 68 | G40: 14 | H40: 13 | I40: 0.08071025
A41: Trin | B41: 725 | C41: 248 | D41: 263 | E41: 76 | F41: 106 | G41: 25 | H41: 7 | I41: 0.31210986
A42: =VLOOKUP("<Zeilentitel_6>",Uebersetzungen!$B$3:$E$100,Uebersetzungen!$B$2+1,FALSE) -> Region Landquart | B42: 12091 | C42: 4003 | D42: 4435 | E42: 1415 | F42: 1633 | G42: 471 | H42: 134
A43: Trimmis | B43: 1532 | C43: 499 | D43: 557 | E43: 179 | F43: 231 | G43: 61 | H43: 5 | I43: 0
A44: Untervaz | B44: 1195 | C44: 392 | D44: 423 | E44: 157 | F44: 173 | G44: 37 | H44: 13 | I44: 0.14981273
A45: Zizers | B45: 1775 | C45: 627 | D45: 654 | E45: 193 | F45: 215 | G45: 63 | H45: 23 | I45: 0.077901844
A46: Fläsch | B46: 414 | C46: 139 | D46: 163 | E46: 39 | F46: 61 | G46: 9 | H46: 3 | I46: 0.55865922
A47: Jenins | B47: 434 | C47: 127 | D47: 170 | E47: 52 | F47: 62 | G47: 18 | H47: 5 | I47: 0
A48: Maienfeld | B48: 1559 | C48: 550 | D48: 584 | E48: 176 | F48: 184 | G48: 53 | H48: 12 | I48: 0.029886432
A49: Malans | B49: 1094 | C49: 316 | D49: 423 | E49: 130 | F49: 160 | G49: 50 | H49: 15 | I49: 0.19600157
A50: Landquart | B50: 4088 | C50: 1353 | D50: 1461 | E50: 489 | F50: 547 | G50: 180 | H50: 58 | I50: 0.28026302
A51: =VLOOKUP("<Zeilentitel_7>",Uebersetzungen!$B$3:$E$100,Uebersetzungen!$B$2+1,FALSE) -> Region Maloja | B51: 9651 | C51: 4286 | D51: 3145 | E51: 1075 | F51: 851 | G51: 233 | H51: 61
A52: Bever | B52: 321 | C52: 130 | D52: 109 | E52: 38 | F52: 35 | G52: 6 | H52: 3 | I52: 0.27434842
A53: Celerina/Schlarigna | B53: 751 | C53: 326 | D53: 257 | E53: 85 | F53: 62 | G53: 15 | H53: 6 | I53: 0.32959789
A54: Madulain | B54: 99 | C54: 33 | D54: 42 | E54: 12 | F54: 9 | G54: 3 | H54: 0 | I54: 3.9647577
A55: Pontresina | B55: 1036 | C55: 414 | D55: 365 | E55: 137 | F55: 83 | G55: 32 | H55: 5 | I55: 0.90534979
A56: La Punt Chamues-ch | B56: 403 | C56: 180 | D56: 132 | E56: 48 | F56: 30 | G56: 10 | H56: 3 | I56: 1.375
A57: Samedan | B57: 1491 | C57: 636 | D57: 474 | E57: 172 | F57: 169 | G57: 33 | H57: 7 | I57: 0.12982798
A58: St. Moritz | B58: 2814 | C58: 1334 | D58: 896 | E58: 302 | F58: 211 | G58: 54 | H58: 17 | I58: 0.56615018
A59: S-chanf | B59: 369 | C59: 160 | D59: 110 | E59: 42 | F59: 39 | G59: 15 | H59: 3 | I59: 0.26246719
A60: Sils im Engadin/Segl | B60: 346 | C60: 151 | D60: 107 | E60: 44 | F60: 36 | G60: 6 | H60: 2 | I60: 4.8040455
A61: Silvaplana | B61: 675 | C61: 350 | D61: 211 | E61: 59 | F61: 44 | G61: 9 | H61: 2 | I61: 1.1971269
A62: Zuoz | B62: 574 | C62: 245 | D62: 196 | E62: 52 | F62: 64 | G62: 13 | H62: 4 | I62: 0.32840722
A63: Bregaglia | B63: 772 | C63: 327 | D63: 246 | E63: 84 | F63: 69 | G63: 37 | H63: 9 | I63: 0
A64: =VLOOKUP("<Zeilentitel_8>",Uebersetzungen!$B$3:$E$100,Uebersetzungen!$B$2+1,FALSE) -> Region Moesa | B64: 4495 | C64: 1765 | D64: 1423 | E64: 627 | F64: 512 | G64: 134 | H64: 34
A65: Buseno | B65: 55 | C65: 29 | D65: 15 | E65: 4 | F65: 4 | G65: 3 | H65: 0 | I65: 0
A66: Castaneda | B66: 131 | C66: 58 | D66: 39 | E66: 18 | F66: 14 | G66: 2 | H66: 0 | I66: 0
A67: Rossa | B67: 96 | C67: 47 | D67: 33 | E67: 5 | F67: 8 | G67: 2 | H67: 1 | I67: 1.6666667
A68: Santa Maria in Calanca | B68: 68 | C68: 35 | D68: 27 | E68: 4 | F68: 2 | G68: 0 | H68: 0 | I68: 0
A69: Lostallo | B69: 401 | C69: 138 | D69: 136 | E69: 64 | F69: 55 | G69: 6 | H69: 2 | I69: 0.22962113
A70: Mesocco | B70: 684 | C70: 281 | D70: 217 | E70: 79 | F70: 78 | G70: 22 | H70: 7 | I70: 0.41928721
A71: Soazza | B71: 163 | C71: 76 | D71: 46 | E71: 23 | F71: 10 | G71: 7 | H71: 1 | I71: 0.625
A72: Cama | B72: 347 | C72: 138 | D72: 101 | E72: 53 | F72: 42 | G72: 10 | H72: 3 | I72: 0.80428954
A73: Grono | B73: 773 | C73: 300 | D73: 246 | E73: 115 | F73: 81 | G73: 22 | H73: 9 | I73: 0
A74: Roveredo (GR) | B74: 1216 | C74: 437 | D74: 392 | E74: 171 | F74: 161 | G74: 46 | H74: 9 | I74: 0.22413149
A75: San Vittore | B75: 444 | C75: 172 | D75: 132 | E75: 79 | F75: 47 | G75: 12 | H75: 2 | I75: 1.1627907
A76: Calanca | B76: 117 | C76: 54 | D76: 39 | E76: 12 | F76: 10 | G76: 2 | H76: 0 | I76: 0.456621
A77: =VLOOKUP("<Zeilentitel_9>",Uebersetzungen!$B$3:$E$100,Uebersetzungen!$B$2+1,FALSE) -> Region Plessur | B77: 22919 | C77: 9956 | D77: 7523 | E77: 2493 | F77: 2190 | G77: 592 | H77: 165
A78: Chur | B78: 20180 | C78: 8731 | D78: 6610 | E78: 2213 | F78: 1963 | G78: 527 | H78: 136 | I78: 0.069556577
A79: Churwalden | B79: 996 | C79: 407 | D79: 342 | E79: 113 | F79: 91 | G79: 31 | H79: 12 | I79: 0.23618328
A80: Arosa | B80: 1743 | C80: 818 | D80: 571 | E80: 167 | F80: 136 | G80: 34 | H80: 17 | I80: 0.61004223
A81: =VLOOKUP("<Zeilentitel_10>",Uebersetzungen!$B$3:$E$100,Uebersetzungen!$B$2+1,FALSE) -> Region Prättigau/Davos | B81: 13097 | C81: 5245 | D81: 4460 | E81: 1450 | F81: 1359 | G81: 440 | H81: 143
A82: Davos | B82: 5608 | C82: 2459 | D82: 1787 | E82: 624 | F82: 552 | G82: 141 | H82: 45 | I82: 0.14806284
A83: Fideris | B83: 280 | C83: 94 | D83: 99 | E83: 37 | F83: 30 | G83: 16 | H83: 4 | I83: 0
A84: Furna | B84: 81 | C84: 21 | D84: 31 | E84: 13 | F84: 5 | G84: 7 | H84: 4 | I84: 2.4271845
A85: Jenaz | B85: 535 | C85: 180 | D85: 216 | E85: 61 | F85: 52 | G85: 21 | H85: 5 | I85: 0.59982862
A86: Klosters | B86: 2280 | C86: 958 | D86: 790 | E86: 231 | F86: 225 | G86: 62 | H86: 14 | I86: 0.35978836
A87: Conters im Prättigau | B87: 104 | C87: 35 | D87: 36 | E87: 14 | F87: 10 | G87: 5 | H87: 4 | I87: 0
A88: Küblis | B88: 446 | C88: 174 | D88: 167 | E88: 48 | F88: 32 | G88: 17 | H88: 8 | I88: 0.74309979
A89: Luzein | B89: 730 | C89: 233 | D89: 282 | E89: 78 | F89: 91 | G89: 37 | H89: 9 | I89: 0
A90: Grüsch | B90: 1023 | C90: 383 | D90: 363 | E90: 112 | F90: 115 | G90: 39 | H90: 11 | I90: 0
A91: Schiers | B91: 1354 | C91: 485 | D91: 454 | E91: 162 | F91: 166 | G91: 61 | H91: 26 | I91: 0.19834711
A92: Seewis im Prättigau | B92: 656 | C92: 223 | D92: 235 | E92: 70 | F92: 81 | G92: 34 | H92: 13 | I92: 0.26827632
A93: =VLOOKUP("<Zeilentitel_11>",Uebersetzungen!$B$3:$E$100,Uebersetzungen!$B$2+1,FALSE) -> Region Surselva | B93: 10646 | C93: 4190 | D93: 3790 | E93: 1130 | F93: 1043 | G93: 386 | H93: 107
A94: Falera | B94: 307 | C94: 113 | D94: 112 | E94: 30 | F94: 38 | G94: 11 | H94: 3 | I94: 3.6671368
A95: Laax | B95: 1185 | C95: 534 | D95: 415 | E95: 106 | F95: 95 | G95: 28 | H95: 7 | I95: 0.29927319
A96: Sagogn | B96: 355 | C96: 122 | D96: 131 | E96: 28 | F96: 54 | G96: 19 | H96: 1 | I96: 0
A97: Schluein | B97: 314 | C97: 129 | D97: 102 | E97: 44 | F97: 33 | G97: 4 | H97: 2 | I97: 0
A98: Vals | B98: 516 | C98: 254 | D98: 152 | E98: 43 | F98: 40 | G98: 24 | H98: 3 | I98: 2.0750988
A99: Lumnezia | B99: 983 | C99: 373 | D99: 372 | E99: 122 | F99: 72 | G99: 29 | H99: 15 | I99: 0.19792182
A100: Ilanz/Glion | B100: 2439 | C100: 962 | D100: 853 | E100: 254 | F100: 267 | G100: 83 | H100: 20 | I100: 0.41420118
A101: Safiental | B101: 413 | C101: 134 | D101: 142 | E101: 52 | F101: 50 | G101: 25 | H101: 10 | I101: 1.4358974
A102: Breil/Brigels | B102: 802 | C102: 283 | D102: 288 | E102: 105 | F102: 75 | G102: 42 | H102: 9 | I102: 0.11331445
A103: Disentis/Mustér | B103: 1008 | C103: 407 | D103: 351 | E103: 103 | F103: 94 | G103: 38 | H103: 15 | I103: 1.4031805
A104: Medel (Lucmagn) | B104: 151 | C104: 49 | D104: 61 | E104: 22 | F104: 13 | G104: 4 | H104: 2 | I104: 0.61919505
A105: Sumvitg | B105: 491 | C105: 165 | D105: 196 | E105: 55 | F105: 56 | G105: 15 | H105: 4 | I105: 0.095238095
... A108: Obersaxen Mundaun | B108: 545 | C108: 214 | D108: 203 | E108: 49 | F108: 55 | G108: 19 | H108: 5 | I108: 0.60137457
A109: =VLOOKUP("<Zeilentitel_12>",Uebersetzungen!$B$3:$E$100,Uebersetzungen!$B$2+1,FALSE) -> Region Viamala | B109: 6681 | C109: 2487 | D109: 2287 | E109: 772 | F109: 755 | G109: 274 | H109: 106
A110: Fürstenau | B110: 168 | C110: 68 | D110: 55 | E110: 17 | F110: 21 | G110: 6 | H110: 1 | I110: 0.28571429
A111: Rothenbrunnen | B111: 145 | C111: 49 | D111: 50 | E111: 13 | F111: 20 | G111: 8 | H111: 5 | I111: 1.1695906
A112: Scharans | B112: 378 | C112: 141 | D112: 117 | E112: 44 | F112: 45 | G112: 28 | H112: 3 | I112: 0
...

Sheet Uebersetzungen
A1: Tabelle | B1: Code | C1: DE | D1: RM | E1: IT
A2: Sprache | B2: 1
B3: <Fachbereich> | C3: Daten & Statistik | D3: Datas & Statistica | E3: Dati & Statistica
A4: T1 | B4: <Titel> | C4: Bewohnte Wohnungen (*) nach Zimmerzahl und Gemeinde, 2025 | D4: Abitaziuns abitadas (*) tenor dumber da stanzas e vischnanca, 2025 | E4: Abitazioni occupate (*) secondo il numero di locali per Comune, 2025
B5: <UTitel> | C5: (Gemeindestand 2025: 100 Gemeinden) | D5: (stadi communal 2025: 100 vischnancas) | E5: (stato dei comuni 2025: 100 comuni)
B7: <SpaltenTitel_0> | C7: Bewohnte Wohnungen (*) | D7: Abitaziuns abitadas (*) | E7: Abitazioni occupate (*)
A8: T1-2 | B8: <SpaltenTitel_1> | C8: Total | D8: Total | E8: Totale
B9: <SpaltenTitel_2> | C9: Wohnungen mit ... Zimmer(n) | D9: Abitaziuns cun … stanza(s) | E9: Abitazioni con … locale(i)
B10: <SpaltenTitel_3> | C10: Anteil Personen, die keiner Wohnung zugeordnet sind (in%) | D10: Part da persunas che n'han betg attribuì in'abitaziun (en %) | E10: Proporzione di persone che non sono associate a un'abitazione (in %)
B11: <SpaltenTitel_4>
B13: <SpaltenTitel_2.1> | C13: 1 Zimmer | D13: 1 Stanza | E13: 1 Locale
B14: <SpaltenTitel_2.2> | C14: 2 Zimmer | D14: 2 Stanzas | E14: 2 Locali
B15: <SpaltenTitel_2.3> | C15: 3 Zimmer | D15: 3 Stanzas | E15: 3 Locali
B16: <SpaltenTitel_2.4> | C16: 4 Zimmer | D16: 4 Stanzas | E16: 4 Locali
B17: <SpaltenTitel_2.5> | C17: 5 Zimmer | D17: 5 Stanzas | E17: 5 Locali
B18: <SpaltenTitel_2.6> | C18: 6+ Zimmer | D18: 6+ Stanzas | E18: 6+ Locali
A20: T1 | B20: <Zeilentitel_1> | C20: GRAUBÜNDEN | D20: GRISCHUN | E20: GRIGIONI
B21: <Zeilentitel_2> | C21: Region Albula | D21: Regiun Alvra | E21: Regione Albula
B22: <Zeilentitel_3> | C22: Region Bernina | D22: Regiun Bernina | E22: Regione Bernina
B23: <Zeilentitel_4> | C23: Region Engiadina Bassa/Val Müstair | D23: Regiun Engiadina Bassa/Val Müstair | E23: Regione Engiadina Bassa/Val Müstair
B24: <Zeilentitel_5> | C24: Region Imboden | D24: Regiun Plaun | E24: Regione Imboden
B25: <Zeilentitel_6> | C25: Region Landquart | D25: Regiun Landquart | E25: Regione Landquart
B26: <Zeilentitel_7> | C26: Region Maloja | D26: Regiun Malögia | E26: Regione Maloja
B27: <Zeilentitel_8> | C27: Region Moesa | D27: Regiun Moesa | E27: Regione Moesa
B28: <Zeilentitel_9> | C28: Region Plessur | D28: Regiun Plessur | E28: Regione Plessur
B29: <Zeilentitel_10> | C29: Region Prättigau/Davos | D29: Regiun Partenz/Tavau | E29: Regione Prättigau/Davos
B30: <Zeilentitel_11> | C30: Region Surselva | D30: Regiun Surselva | E30: Regione Surselva
B31: <Zeilentitel_12> | C31: Region Viamala | D31: Regiun Viamala | E31: Regione Viamala
B33: <Legende_1> | C33: Um die Auswertung der Daten zu erleichtern, wurden fehlende Werte in der GWS statistisch eingesetzt. Bei kleinräumigen Auswertungen kann deshalb nicht ausgeschlossen werden, dass diese Ergänzungen zu Verzerrungen führen. Kleinräumige Analysen sind demzufolge mit Vorsicht zu interpretieren. | D33: Per facilitar l'evaluaziun da las datas s'ha la statistica applitgada en il SEA valurs che mancan. En cas d'evaluaziuns cun pitschens spazis na pon ins perquai betg excluder che questas cumplettaziuns chaschunian sfalsificaziuns. Analisas pitschnas ston perquai vegnir interpretadas cun precauziun. | E33: Per facilitare l'interpretazione dei dati, i valori mancanti sono stati utilizzati statisticamente nella SEA. Pertanto, nel caso di valutazioni su scala ridotta, non si può escludere che tali aggiunte possano comportare distorsioni. Pertanto, le analisi su scala ridotta devono essere interpretate con cautela.
B34: <Legende_2> | C34: (*) Bewohnte Wohnungen: Wohnungen denen eindeutig mindestens eine Person zugeordnet werden konnten. Es werden sämtliche Personen in Privathaushalten berücksichtigt, die in einer Gemeinde gemeldet sind, unabhängig vom Meldeverhältnis. | D34: (*) Abitaziuns abitadas: abitaziuns, a las qualas ins ha pudì attribuir cleramain almain ad ina persuna. I vegnan resguardadas tut las persunas che vivan en ina chasada privata, independentamain da la relaziun d'annunzia. | E34: (*) Abitazioni occupate: abitazioni alle quali è stato possibile associare almeno una persona senza ambiguità. Sono considerate tutte le persone annunciate in economia domestica privata in un comune, indipendentemente dal tipo di relazione di notifica.
A36: T1-2 | B36: <Quelle_1> | C36: Quelle: BFS (Gebäude- und Wohnungsstatistik) | D36: Funtauna: UST (Statistica dals edifizis e da las abitaziuns) | E36: Fonte: UST (Statistica degli edifici e delle abitazioni)
A37: T1 | B37: <Aktualisierung> | C37: Letztmals aktualisiert am: 15.09.2026 | D37: Ultima actualisaziun: 15.09.2026 | E37: Ultimo aggiornamento: 15.09.2026
A40: T2 | B40: <T2Titel> | C40: Bewohnte Wohnungen (*) nach Anzahl Bewohner und Gemeinde, 2025 | D40: Abitaziuns abitadas (*) tenor dumber da abitants e vischnanca, 2025 | E40: Abitazioni occupate (*) secondo il numero di abitanti per Comune, 2025
B41: <T2UTitel> | C41: (Gemeindestand 2025: 100 Gemeinden) | D41: (stadi communal 2025: 100 vischnancas) | E41: (stato dei comuni 2025: 100 comuni)
B43: <T2SpaltenTitel_0> | C43: Bewohnte Wohnungen (*) | D43: Abitaziuns abitadas (*) | E43: Abitazioni occupate (*)
A44: T1-2 | B44: <T2SpaltenTitel_1> | C44: Total | D44: Total | E44: Totale
B45: <T2SpaltenTitel_2> | C45: mit … in der Wohnung | D45: cun … en l'abitaziun | E45: con … nell'abitazione
B46: <T2SpaltenTitel_3> | C46: Anteil Personen, die keiner Wohnung zugeordnet sind (in%) | D46: Part da persunas che n'han betg attribuì in'abitaziun (en %) | E46: Proporzione di persone che non sono associate a un'abitazione (in %)
B47: <T2SpaltenTitel_4>
B49: <T2SpaltenTitel_2.1> | C49: 1 Person | D49: 1 persuna | E49: 1 persona
B50: <T2SpaltenTitel_2.2> | C50: 2 Personen | D50: 2 persunas | E50: 2 persone
B51: <T2SpaltenTitel_2.3> | C51: 3 Personen | D51: 3 persunas | E51: 3 persone
B52: <T2SpaltenTitel_2.4> | C52: 4 Personen | D52: 4 persunas | E52: 4 persone
B53: <T2SpaltenTitel_2.5> | C53: 5 Personen | D53: 5 persunas | E53: 5 persone
B54: <T2SpaltenTitel_2.6> | C54: 6+ Personen | D54: 6+ persunas | E54: 6+ persone
