Workbook

Sheet Zimmerzahl
A7: =VLOOKUP("<Fachbereich>",Uebersetzungen!$B$3:$E$100,Uebersetzungen!$B$2+1,FALSE) -> Daten & Statistik
A9: =VLOOKUP("<Titel>",Uebersetzungen!$B$3:$E$38,Uebersetzungen!$B$2+1,FALSE) -> Bewohnte Wohnungen (*) nach Zimmerzahl und Gemeinde, 2025
A10: =VLOOKUP("<UTitel>",Uebersetzungen!$B$3:$E$100,Uebersetzungen!$B$2+1,FALSE) -> (Gemeindestand 2025: 100 Gemeinden)
B13: =VLOOKUP("<SpaltenTitel_0>",Uebersetzungen!$B$3:$E$36,Uebersetzungen!$B$2+1,FALSE) -> Bewohnte Wohnungen (*)
B14: =VLOOKUP("<SpaltenTitel_1>",Uebersetzungen!$B$3:$E$36,Uebersetzungen!$B$2+1,FALSE) -> Total | C14: =VLOOKUP("<SpaltenTitel_2>",Uebersetzungen!$B$3:$E$36,Uebersetzungen!$B$2+1,FALSE) -> Wohnungen mit ... Zimmer(n) | I14: =VLOOKUP("<SpaltenTitel_3>",Uebersetzungen!$B$3:$E$36,Uebersetzungen!$B$2+1,FALSE) -> Anteil Personen, die keiner Wohnung zugeordnet sind (in%)
C15: =VLOOKUP("<SpaltenTitel_2.1>",Uebersetzungen!$B$3:$E$36,Uebersetzungen!$B$2+1,FALSE) -> 1 Zimmer | D15: =VLOOKUP("<SpaltenTitel_2.2>",Uebersetzungen!$B$3:$E$36,Uebersetzungen!$B$2+1,FALSE) -> 2 Zimmer | E15: =VLOOKUP("<SpaltenTitel_2.3>",Uebersetzungen!$B$3:$E$337,Uebersetzungen!$B$2+1,FALSE) -> 3 Zimmer | F15: =VLOOKUP("<SpaltenTitel_2.4>",Uebersetzungen!$B$3:$E$337,Uebersetzungen!$B$2+1,FALSE) -> 4 Zimmer | G15: =VLOOKUP("<SpaltenTitel_2.5>",Uebersetzungen!$B$3:$E$337,Uebersetzungen!$B$2+1,FALSE) -> 5 Zimmer | H15: =VLOOKUP("<SpaltenTitel_2.6>",Uebersetzungen!$B$3:$E$337,Uebersetzungen!$B$2+1,FALSE) -> 6+ Zimmer
A17: =VLOOKUP("<Zeilentitel_1>",Uebersetzungen!$B$3:$E$100,Uebersetzungen!$B$2+1,FALSE) -> GRAUBÜNDEN | B17: 100488 | C17: 7277 | D17: 13195 | E17: 22175 | F17: 29950 | G17: 16563 | H17: 11328
A18: =VLOOKUP("<Zeilentitel_2>",Uebersetzungen!$B$3:$E$100,Uebersetzungen!$B$2+1,FALSE) -> Region Albula | B18: 4255 | C18: 411 | D18: 529 | E18: 859 | F18: 1143 | G18: 747 | H18: 566
A19: Vaz/Obervaz | B19: 1472 | C19: 263 | D19: 209 | E19: 326 | F19: 389 | G19: 180 | H19: 105 | I19: 1.3910844
A20: Lantsch/Lenz | B20: 310 | C20: 28 | D20: 39 | E20: 64 | F20: 93 | G20: 44 | H20: 42 | I20: 0.81967213
A21: Schmitten (GR) | B21: 115 | C21: 5 | D21: 12 | E21: 15 | F21: 37 | G21: 34 | H21: 12 | I21: 9.1703057
A22: Albula/Alvra | B22: 636 | C22: 32 | D22: 67 | E22: 137 | F22: 165 | G22: 132 | H22: 103 | I22: 1.1286682
A23: Surses | B23: 1275 | C23: 53 | D23: 152 | E23: 242 | F23: 323 | G23: 267 | H23: 238 | I23: 0.27121271
A24: Bergün Filisur | B24: 447 | C24: 30 | D24: 50 | E24: 75 | F24: 136 | G24: 90 | H24: 66 | I24: 0.20597322
A25: =VLOOKUP("<Zeilentitel_3>",Uebersetzungen!$B$3:$E$100,Uebersetzungen!$B$2+1,FALSE) -> Region Bernina | B25: 2006 | C25: 27 | D25: 108 | E25: 303 | F25: 561 | G25: 544 | H25: 463
A26: Brusio | B26: 471 | C26: 2 | D26: 16 | E26: 85 | F26: 213 | G26: 90 | H26: 65 | I26: 0.72202166
A27: Poschiavo | B27: 1535 | C27: 25 | D27: 92 | E27: 218 | F27: 348 | G27: 454 | H27: 398 | I27: 0.086182132
A28: =VLOOKUP("<Zeilentitel_4>",Uebersetzungen!$B$3:$E$100,Uebersetzungen!$B$2+1,FALSE) -> Region Engiadina Bassa/Val Müstair | B28: 4602 | C28: 432 | D28: 554 | E28: 887 | F28: 1208 | G28: 854 | H28: 667
A29: Zernez | B29: 752 | C29: 54 | D29: 85 | E29: 146 | F29: 230 | G29: 136 | H29: 101 | I29: 1.0968921
A30: Samnaun | B30: 493 | C30: 149 | D30: 74 | E30: 86 | F30: 99 | G30: 43 | H30: 42 | I30: 0.32493907
A31: Scuol | B31: 2258 | C31: 204 | D31: 307 | E31: 464 | F31: 600 | G31: 388 | H31: 295 | I31: 0.18800919
A32: Valsot | B32: 382 | C32: 8 | D32: 25 | E32: 65 | F32: 95 | G32: 104 | H32: 85 | I32: 0.23866348
A33: Val Müstair | B33: 717 | C33: 17 | D33: 63 | E33: 126 | F33: 184 | G33: 183 | H33: 144 | I33: 0.70422535
A34: =VLOOKUP("<Zeilentitel_5>",Uebersetzungen!$B$3:$E$100,Uebersetzungen!$B$2+1,FALSE) -> Region Imboden | B34: 10045 | C34: 495 | D34: 1105 | E34: 2252 | F34: 3224 | G34: 1895 | H34: 1074
A35: Bonaduz | B35: 1608 | C35: 61 | D35: 176 | E35: 328 | F35: 428 | G35: 390 | H35: 225 | I35: 0.4377565
A36: Domat/Ems | B36: 3708 | C36: 112 | D36: 364 | E36: 908 | F36: 1355 | G36: 645 | H36: 324 | I36: 0.16536735
A37: Rhäzüns | B37: 664 | C37: 29 | D37: 44 | E37: 104 | F37: 245 | G37: 160 | H37: 82 | I37: 0.18552876
A38: Felsberg | B38: 1205 | C38: 38 | D38: 131 | E38: 209 | F38: 414 | G38: 258 | H38: 155 | I38: 0.10427529
A39: Flims | B39: 1572 | C39: 201 | D39: 252 | E39: 420 | F39: 426 | G39: 164 | H39: 109 | I39: 0.09771987
A40: Tamins | B40: 563 | C40: 17 | D40: 52 | E40: 125 | F40: 155 | G40: 126 | H40: 88 | I40: 0.08071025
A41: Trin | B41: 725 | C41: 37 | D41: 86 | E41: 158 | F41: 201 | G41: 152 | H41: 91 | I41: 0.31210986
A42: =VLOOKUP("<Zeilentitel_6>",Uebersetzungen!$B$3:$E$100,Uebersetzungen!$B$2+1,FALSE) -> Region Landquart | B42: 12091 | C42: 357 | D42: 1365 | E42: 2296 | F42: 4028 | G42: 2367 | H42: 1678
A43: Trimmis | B43: 1532 | C43: 50 | D43: 149 | E43: 251 | F43: 550 | G43: 334 | H43: 198 | I43: 0
A44: Untervaz | B44: 1195 | C44: 48 | D44: 142 | E44: 193 | F44: 319 | G44: 231 | H44: 262 | I44: 0.14981273
A45: Zizers | B45: 1775 | C45: 71 | D45: 216 | E45: 373 | F45: 534 | G45: 362 | H45: 219 | I45: 0.077901844
A46: Fläsch | B46: 414 | C46: 6 | D46: 51 | E46: 70 | F46: 155 | G46: 83 | H46: 49 | I46: 0.55865922
A47: Jenins | B47: 434 | C47: 13 | D47: 28 | E47: 85 | F47: 125 | G47: 106 | H47: 77 | I47: 0
A48: Maienfeld | B48: 1559 | C48: 49 | D48: 198 | E48: 350 | F48: 466 | G48: 241 | H48: 255 | I48: 0.029886432
A49: Malans | B49: 1094 | C49: 17 | D49: 88 | E49: 186 | F49: 368 | G49: 229 | H49: 206 | I49: 0.19600157
A50: Landquart | B50: 4088 | C50: 103 | D50: 493 | E50: 788 | F50: 1511 | G50: 781 | H50: 412 | I50: 0.28026302
...

Sheet Anzahl Bewohner
A7: =VLOOKUP("<Fachbereich>",Uebersetzungen!$B$3:$E$100,Uebersetzungen!$B$2+1,FALSE) -> Daten & Statistik
A9: =VLOOKUP("<T2Titel>",Uebersetzungen!$B$3:$E$338,Uebersetzungen!$B$2+1,FALSE) -> Bewohnte Wohnungen (*) nach Anzahl Bewohner und Gemeinde, 2025
A10: =VLOOKUP("<T2UTitel>",Uebersetzungen!$B$3:$E$100,Uebersetzungen!$B$2+1,FALSE) -> (Gemeindestand 2025: 100 Gemeinden)
B13: =VLOOKUP("<T2SpaltenTitel_0>",Uebersetzungen!$B$3:$E$336,Uebersetzungen!$B$2+1,FALSE) -> Bewohnte Wohnungen (*)
B14: =VLOOKUP("<T2SpaltenTitel_1>",Uebersetzungen!$B$3:$E$336,Uebersetzungen!$B$2+1,FALSE) -> Total | C14: =VLOOKUP("<T2SpaltenTitel_2>",Uebersetzungen!$B$3:$E$336,Uebersetzungen!$B$2+1,FALSE) -> mit … in der Wohnung | I14: =VLOOKUP("<T2SpaltenTitel_3>",Uebersetzungen!$B$3:$E$336,Uebersetzungen!$B$2+1,FALSE) -> Anteil Personen, die keiner Wohnung zugeordnet sind (in%)
C15: =VLOOKUP("<T2SpaltenTitel_2.1>",Uebersetzungen!$B$3:$E$336,Uebersetzungen!$B$2+1,FALSE) -> 1 Person | D15: =VLOOKUP("<T2SpaltenTitel_2.2>",Uebersetzungen!$B$3:$E$336,Uebersetzungen!$B$2+1,FALSE) -> 2 Personen | E15: =VLOOKUP("<T2SpaltenTitel_2.3>",Uebersetzungen!$B$3:$E$337,Uebersetzungen!$B$2+1,FALSE) -> 3 Personen | F15: =VLOOKUP("<T2SpaltenTitel_2.4>",Uebersetzungen!$B$3:$E$337,Uebersetzungen!$B$2+1,FALSE) -> 4 Personen | G15: =VLOOKUP("<T2SpaltenTitel_2.5>",Uebersetzungen!$B$3:$E$337,Uebersetzungen!$B$2+1,FALSE) -> 5 Personen | H15: =VLOOKUP("<T2SpaltenTitel_2.6>",Uebersetzungen!$B$3:$E$337,Uebersetzungen!$B$2+1,FALSE) -> 6+ Personen
A17: =VLOOKUP("<Zeilentitel_1>",Uebersetzungen!$B$3:$E$100,Uebersetzungen!$B$2+1,FALSE) -> GRAUBÜNDEN | B17: 100488 | C17: 39808 | D17: 34161 | E17: 11368 | F17: 10904 | G17: 3275 | H17: 972
A18: =VLOOKUP("<Zeilentitel_2>",Uebersetzungen!$B$3:$E$100,Uebersetzungen!$B$2+1,FALSE) -> Region Albula | B18: 4255 | C18: 1845 | D18: 1470 | E18: 369 | F18: 401 | G18: 134 | H18: 36
A19: Vaz/Obervaz | B19: 1472 | C19: 669 | D19: 481 | E19: 127 | F19: 146 | G19: 40 | H19: 9 | I19: 1.3910844
A20: Lantsch/Lenz | B20: 310 | C20: 150 | D20: 93 | E20: 18 | F20: 38 | G20: 8 | H20: 3 | I20: 0.81967213
A21: Schmitten (GR) | B21: 115 | C21: 56 | D21: 41 | E21: 7 | F21: 6 | G21: 5 | H21: 0 | I21: 9.1703057
A22: Albula/Alvra | B22: 636 | C22: 259 | D22: 217 | E22: 73 | F22: 58 | G22: 19 | H22: 10 | I22: 1.1286682
A23: Surses | B23: 1275 | C23: 537 | D23: 474 | E23: 104 | F23: 110 | G23: 41 | H23: 9 | I23: 0.27121271
A24: Bergün Filisur | B24: 447 | C24: 174 | D24: 164 | E24: 40 | F24: 43 | G24: 21 | H24: 5 | I24: 0.20597322
A25: =VLOOKUP("<Zeilentitel_3>",Uebersetzungen!$B$3:$E$100,Uebersetzungen!$B$2+1,FALSE) -> Region Bernina | B25: 2006 | C25: 720 | D25: 624 | E25: 266 | F25: 255 | G25: 111 | H25: 30
A26: Brusio | B26: 471 | C26: 160 | D26: 148 | E26: 71 | F26: 54 | G26: 26 | H26: 12 | I26: 0.72202166
A27: Poschiavo | B27: 1535 | C27: 560 | D27: 476 | E27: 195 | F27: 201 | G27: 85 | H27: 18 | I27: 0.086182132
A28: =VLOOKUP("<Zeilentitel_4>",Uebersetzungen!$B$3:$E$100,Uebersetzungen!$B$2+1,FALSE) -> Region Engiadina Bassa/Val Müstair | B28: 4602 | C28: 1856 | D28: 1589 | E28: 508 | F28: 476 | G28: 136 | H28: 37
A29: Zernez | B29: 752 | C29: 290 | D29: 263 | E29: 83 | F29: 87 | G29: 22 | H29: 7 | I29: 1.0968921
A30: Samnaun | B30: 493 | C30: 234 | D30: 144 | E30: 62 | F30: 42 | G30: 10 | H30: 1 | I30: 0.32493907
A31: Scuol | B31: 2258 | C31: 891 | D31: 783 | E31: 247 | F31: 246 | G31: 76 | H31: 15 | I31: 0.18800919
A32: Valsot | B32: 382 | C32: 136 | D32: 139 | E32: 51 | F32: 43 | G32: 8 | H32: 5 | I32: 0.23866348
A33: Val Müstair | B33: 717 | C33: 305 | D33: 260 | E33: 65 | F33: 58 | G33: 20 | H33: 9 | I33: 0.70422535
A34: =VLOOKUP("<Zeilentitel_5>",Uebersetzungen!$B$3:$E$100,Uebersetzungen!$B$2+1,FALSE) -> Region Imboden | B34: 10045 | C34: 3455 | D34: 3415 | E34: 1263 | F34: 1429 | G34: 364 | H34: 119
A35: Bonaduz | B35: 1608 | C35: 553 | D35: 532 | E35: 191 | F35: 246 | G35: 69 | H35: 17 | I35: 0.4377565
A36: Domat/Ems | B36: 3708 | C36: 1215 | D36: 1234 | E36: 528 | F36: 533 | G36: 152 | H36: 46 | I36: 0.16536735
A37: Rhäzüns | B37: 664 | C37: 190 | D37: 232 | E37: 84 | F37: 114 | G37: 36 | H37: 8 | I37: 0.18552876
A38: Felsberg | B38: 1205 | C38: 362 | D38: 398 | E38: 166 | F38: 217 | G38: 39 | H38: 23 | I38: 0.10427529
A39: Flims | B39: 1572 | C39: 700 | D39: 539 | E39: 154 | F39: 145 | G39: 29 | H39: 5 | I39: 0.09771987
A40: Tamins | B40: 563 | C40: 187 | D40: 217 | E40: 64 | F40: 68 | G40: 14 | H40: 13 | I40: 0.08071025
A41: Trin | B41: 725 | C41: 248 | D41: 263 | E41: 76 | F41: 106 | G41: 25 | H41: 7 | I41: 0.31210986
A42: =VLOOKUP("<Zeilentitel_6>",Uebersetzungen!$B$3:$E$100,Uebersetzungen!$B$2+1,FALSE) -> Region Landquart | B42: 12091 | C42: 4003 | D42: 4435 | E42: 1415 | F42: 1633 | G42: 471 | H42: 134
A43: Trimmis | B43: 1532 | C43: 499 | D43: 557 | E43: 179 | F43: 231 | G43: 61 | H43: 5 | I43: 0
A44: Untervaz | B44: 1195 | C44: 392 | D44: 423 | E44: 157 | F44: 173 | G44: 37 | H44: 13 | I44: 0.14981273
A45: Zizers | B45: 1775 | C45: 627 | D45: 654 | E45: 193 | F45: 215 | G45: 63 | H45: 23 | I45: 0.077901844
A46: Fläsch | B46: 414 | C46: 139 | D46: 163 | E46: 39 | F46: 61 | G46: 9 | H46: 3 | I46: 0.55865922
A47: Jenins | B47: 434 | C47: 127 | D47: 170 | E47: 52 | F47: 62 | G47: 18 | H47: 5 | I47: 0
A48: Maienfeld | B48: 1559 | C48: 550 | D48: 584 | E48: 176 | F48: 184 | G48: 53 | H48: 12 | I48: 0.029886432
A49: Malans | B49: 1094 | C49: 316 | D49: 423 | E49: 130 | F49: 160 | G49: 50 | H49: 15 | I49: 0.19600157
A50: Landquart | B50: 4088 | C50: 1353 | D50: 1461 | E50: 489 | F50: 547 | G50: 180 | H50: 58 | I50: 0.28026302
...

Sheet Uebersetzungen
A1: Tabelle | B1: Code | C1: DE | D1: RM | E1: IT
A2: Sprache | B2: 1
B3: <Fachbereich> | C3: Daten & Statistik | D3: Datas & Statistica | E3: Dati & Statistica
A4: T1 | B4: <Titel> | C4: Bewohnte Wohnungen (*) nach Zimmerzahl und Gemeinde, 2025 | D4: Abitaziuns abitadas (*) tenor dumber da stanzas e vischnanca, 2025 | E4: Abitazioni occupate (*) secondo il numero di locali per Comune, 2025
B5: <UTitel> | C5: (Gemeindestand 2025: 100 Gemeinden) | D5: (stadi communal 2025: 100 vischnancas) | E5: (stato dei comuni 2025: 100 comuni)
B7: <SpaltenTitel_0> | C7: Bewohnte Wohnungen (*) | D7: Abitaziuns abitadas (*) | E7: Abitazioni occupate (*)
A8: T1-2 | B8: <SpaltenTitel_1> | C8: Total | D8: Total | E8: Totale
B9: <SpaltenTitel_2> | C9: Wohnungen mit ... Zimmer(n) | D9: Abitaziuns cun … stanza(s) | E9: Abitazioni con … locale(i)
B10: <SpaltenTitel_3> | C10: Anteil Personen, die keiner Wohnung zugeordnet sind (in%) | D10: Part da persunas che n'han betg attribuì in'abitaziun (en %) | E10: Proporzione di persone che non sono associate a un'abitazione (in %)
B11: <SpaltenTitel_4>
B13: <SpaltenTitel_2.1> | C13: 1 Zimmer | D13: 1 Stanza | E13: 1 Locale
B14: <SpaltenTitel_2.2> | C14: 2 Zimmer | D14: 2 Stanzas | E14: 2 Locali
B15: <SpaltenTitel_2.3> | C15: 3 Zimmer | D15: 3 Stanzas | E15: 3 Locali
B16: <SpaltenTitel_2.4> | C16: 4 Zimmer | D16: 4 Stanzas | E16: 4 Locali
B17: <SpaltenTitel_2.5> | C17: 5 Zimmer | D17: 5 Stanzas | E17: 5 Locali
B18: <SpaltenTitel_2.6> | C18: 6+ Zimmer | D18: 6+ Stanzas | E18: 6+ Locali
A20: T1 | B20: <Zeilentitel_1> | C20: GRAUBÜNDEN | D20: GRISCHUN | E20: GRIGIONI
B21: <Zeilentitel_2> | C21: Region Albula | D21: Regiun Alvra | E21: Regione Albula
B22: <Zeilentitel_3> | C22: Region Bernina | D22: Regiun Bernina | E22: Regione Bernina
B23: <Zeilentitel_4> | C23: Region Engiadina Bassa/Val Müstair | D23: Regiun Engiadina Bassa/Val Müstair | E23: Regione Engiadina Bassa/Val Müstair
B24: <Zeilentitel_5> | C24: Region Imboden | D24: Regiun Plaun | E24: Regione Imboden
B25: <Zeilentitel_6> | C25: Region Landquart | D25: Regiun Landquart | E25: Regione Landquart
B26: <Zeilentitel_7> | C26: Region Maloja | D26: Regiun Malögia | E26: Regione Maloja
B27: <Zeilentitel_8> | C27: Region Moesa | D27: Regiun Moesa | E27: Regione Moesa
B28: <Zeilentitel_9> | C28: Region Plessur | D28: Regiun Plessur | E28: Regione Plessur
B29: <Zeilentitel_10> | C29: Region Prättigau/Davos | D29: Regiun Partenz/Tavau | E29: Regione Prättigau/Davos
B30: <Zeilentitel_11> | C30: Region Surselva | D30: Regiun Surselva | E30: Regione Surselva
B31: <Zeilentitel_12> | C31: Region Viamala | D31: Regiun Viamala | E31: Regione Viamala
B33: <Legende_1> | C33: Um die Auswertung der Daten zu erleichtern, wurden fehlende Werte in der GWS statistisch eingesetzt. Bei kleinräumigen Auswertungen kann deshalb nicht ausgeschlossen werden, dass diese Ergänzungen zu Verzerrungen führen. Kleinräumige Analysen sind demzufolge mit Vorsicht zu interpretieren. | D33: Per facilitar l'evaluaziun da las datas s'ha la statistica applitgada en il SEA valurs che mancan. En cas d'evaluaziuns cun pitschens spazis na pon ins perquai betg excluder che questas cumplettaziuns chaschunian sfalsificaziuns. Analisas pitschnas ston perquai vegnir interpretadas cun precauziun. | E33: Per facilitare l'interpretazione dei dati, i valori mancanti sono stati utilizzati statisticamente nella SEA. Pertanto, nel caso di valutazioni su scala ridotta, non si può escludere che tali aggiunte possano comportare distorsioni. Pertanto, le analisi su scala ridotta devono essere interpretate con cautela.
B34: <Legende_2> | C34: (*) Bewohnte Wohnungen: Wohnungen denen eindeutig mindestens eine Person zugeordnet werden konnten. Es werden sämtliche Personen in Privathaushalten berücksichtigt, die in einer Gemeinde gemeldet sind, unabhängig vom Meldeverhältnis. | D34: (*) Abitaziuns abitadas: abitaziuns, a las qualas ins ha pudì attribuir cleramain almain ad ina persuna. I vegnan resguardadas tut las persunas che vivan en ina chasada privata, independentamain da la relaziun d'annunzia. | E34: (*) Abitazioni occupate: abitazioni alle quali è stato possibile associare almeno una persona senza ambiguità. Sono considerate tutte le persone annunciate in economia domestica privata in un comune, indipendentemente dal tipo di relazione di notifica.
A36: T1-2 | B36: <Quelle_1> | C36: Quelle: BFS (Gebäude- und Wohnungsstatistik) | D36: Funtauna: UST (Statistica dals edifizis e da las abitaziuns) | E36: Fonte: UST (Statistica degli edifici e delle abitazioni)
A37: T1 | B37: <Aktualisierung> | C37: Letztmals aktualisiert am: 15.09.2026 | D37: Ultima actualisaziun: 15.09.2026 | E37: Ultimo aggiornamento: 15.09.2026
A40: T2 | B40: <T2Titel> | C40: Bewohnte Wohnungen (*) nach Anzahl Bewohner und Gemeinde, 2025 | D40: Abitaziuns abitadas (*) tenor dumber da abitants e vischnanca, 2025 | E40: Abitazioni occupate (*) secondo il numero di abitanti per Comune, 2025
B41: <T2UTitel> | C41: (Gemeindestand 2025: 100 Gemeinden) | D41: (stadi communal 2025: 100 vischnancas) | E41: (stato dei comuni 2025: 100 comuni)
B43: <T2SpaltenTitel_0> | C43: Bewohnte Wohnungen (*) | D43: Abitaziuns abitadas (*) | E43: Abitazioni occupate (*)
A44: T1-2 | B44: <T2SpaltenTitel_1> | C44: Total | D44: Total | E44: Totale
B45: <T2SpaltenTitel_2> | C45: mit … in der Wohnung | D45: cun … en l'abitaziun | E45: con … nell'abitazione
B46: <T2SpaltenTitel_3> | C46: Anteil Personen, die keiner Wohnung zugeordnet sind (in%) | D46: Part da persunas che n'han betg attribuì in'abitaziun (en %) | E46: Proporzione di persone che non sono associate a un'abitazione (in %)
B47: <T2SpaltenTitel_4>
B49: <T2SpaltenTitel_2.1> | C49: 1 Person | D49: 1 persuna | E49: 1 persona
...
